BEGIN:VCALENDAR
VERSION:2.0
PRODID:-//Gewürze-Kiste - ECPv6.15.20//NONSGML v1.0//EN
CALSCALE:GREGORIAN
METHOD:PUBLISH
X-ORIGINAL-URL:https://gewuerze-kiste.de
X-WR-CALDESC:Veranstaltungen für Gewürze-Kiste
REFRESH-INTERVAL;VALUE=DURATION:PT1H
X-Robots-Tag:noindex
X-PUBLISHED-TTL:PT1H
BEGIN:VTIMEZONE
TZID:Europe/Helsinki
BEGIN:DAYLIGHT
TZOFFSETFROM:+0200
TZOFFSETTO:+0300
TZNAME:EEST
DTSTART:20240331T010000
END:DAYLIGHT
BEGIN:STANDARD
TZOFFSETFROM:+0300
TZOFFSETTO:+0200
TZNAME:EET
DTSTART:20241027T010000
END:STANDARD
BEGIN:DAYLIGHT
TZOFFSETFROM:+0200
TZOFFSETTO:+0300
TZNAME:EEST
DTSTART:20250330T010000
END:DAYLIGHT
BEGIN:STANDARD
TZOFFSETFROM:+0300
TZOFFSETTO:+0200
TZNAME:EET
DTSTART:20251026T010000
END:STANDARD
BEGIN:DAYLIGHT
TZOFFSETFROM:+0200
TZOFFSETTO:+0300
TZNAME:EEST
DTSTART:20260329T010000
END:DAYLIGHT
BEGIN:STANDARD
TZOFFSETFROM:+0300
TZOFFSETTO:+0200
TZNAME:EET
DTSTART:20261025T010000
END:STANDARD
END:VTIMEZONE
BEGIN:VEVENT
DTSTART;TZID=Europe/Helsinki:20250323T110000
DTEND;TZID=Europe/Helsinki:20250323T180000
DTSTAMP:20260425T152451
CREATED:20250125T174415Z
LAST-MODIFIED:20250204T144942Z
UID:34450-1742727600-1742752800@gewuerze-kiste.de
SUMMARY:Ostermarkt Issum 2025
DESCRIPTION:Ostermarkt Issum
URL:https://gewuerze-kiste.de/event/ostermarkt-issum-2025/
LOCATION:Ostermarkt Issum 2025\, Rathauspark Herrlichkeit 7-9\, Issum\, NRW\, 47661\, Germany
ATTACH;FMTTYPE=image/jpeg:https://gewuerze-kiste.de/wp-content/uploads/2025/02/WhatsApp-Bild-2025-02-04-um-15.40.11_fd70199d.jpg
END:VEVENT
END:VCALENDAR