BEGIN:VCALENDAR
VERSION:2.0
PRODID:-//Gewürze-Kiste - ECPv6.15.20//NONSGML v1.0//EN
CALSCALE:GREGORIAN
METHOD:PUBLISH
X-ORIGINAL-URL:https://gewuerze-kiste.de
X-WR-CALDESC:Veranstaltungen für Gewürze-Kiste
REFRESH-INTERVAL;VALUE=DURATION:PT1H
X-Robots-Tag:noindex
X-PUBLISHED-TTL:PT1H
BEGIN:VTIMEZONE
TZID:Europe/Helsinki
BEGIN:DAYLIGHT
TZOFFSETFROM:+0200
TZOFFSETTO:+0300
TZNAME:EEST
DTSTART:20240331T010000
END:DAYLIGHT
BEGIN:STANDARD
TZOFFSETFROM:+0300
TZOFFSETTO:+0200
TZNAME:EET
DTSTART:20241027T010000
END:STANDARD
BEGIN:DAYLIGHT
TZOFFSETFROM:+0200
TZOFFSETTO:+0300
TZNAME:EEST
DTSTART:20250330T010000
END:DAYLIGHT
BEGIN:STANDARD
TZOFFSETFROM:+0300
TZOFFSETTO:+0200
TZNAME:EET
DTSTART:20251026T010000
END:STANDARD
BEGIN:DAYLIGHT
TZOFFSETFROM:+0200
TZOFFSETTO:+0300
TZNAME:EEST
DTSTART:20260329T010000
END:DAYLIGHT
BEGIN:STANDARD
TZOFFSETFROM:+0300
TZOFFSETTO:+0200
TZNAME:EET
DTSTART:20261025T010000
END:STANDARD
END:VTIMEZONE
BEGIN:VEVENT
DTSTART;TZID=Europe/Helsinki:20250628T100000
DTEND;TZID=Europe/Helsinki:20250628T180000
DTSTAMP:20260421T203652
CREATED:20250220T141009Z
LAST-MODIFIED:20250220T141009Z
UID:34825-1751104800-1751133600@gewuerze-kiste.de
SUMMARY:Hortensienfest Schloss Moyland
DESCRIPTION:Hortensienfest Schloss Moyland
URL:https://gewuerze-kiste.de/event/hortensienfest-schloss-moyland/
LOCATION:Hortensienfest Schloss Moyland\, Am Schloss 4\, Bedburg-Hau\, 47551
END:VEVENT
END:VCALENDAR