BEGIN:VCALENDAR
VERSION:2.0
PRODID:-//Gewürze-Kiste - ECPv6.15.20//NONSGML v1.0//EN
CALSCALE:GREGORIAN
METHOD:PUBLISH
X-WR-CALNAME:Gewürze-Kiste
X-ORIGINAL-URL:https://gewuerze-kiste.de
X-WR-CALDESC:Veranstaltungen für Gewürze-Kiste
REFRESH-INTERVAL;VALUE=DURATION:PT1H
X-Robots-Tag:noindex
X-PUBLISHED-TTL:PT1H
BEGIN:VTIMEZONE
TZID:Europe/Helsinki
BEGIN:DAYLIGHT
TZOFFSETFROM:+0200
TZOFFSETTO:+0300
TZNAME:EEST
DTSTART:20240331T010000
END:DAYLIGHT
BEGIN:STANDARD
TZOFFSETFROM:+0300
TZOFFSETTO:+0200
TZNAME:EET
DTSTART:20241027T010000
END:STANDARD
BEGIN:DAYLIGHT
TZOFFSETFROM:+0200
TZOFFSETTO:+0300
TZNAME:EEST
DTSTART:20250330T010000
END:DAYLIGHT
BEGIN:STANDARD
TZOFFSETFROM:+0300
TZOFFSETTO:+0200
TZNAME:EET
DTSTART:20251026T010000
END:STANDARD
BEGIN:DAYLIGHT
TZOFFSETFROM:+0200
TZOFFSETTO:+0300
TZNAME:EEST
DTSTART:20260329T010000
END:DAYLIGHT
BEGIN:STANDARD
TZOFFSETFROM:+0300
TZOFFSETTO:+0200
TZNAME:EET
DTSTART:20261025T010000
END:STANDARD
END:VTIMEZONE
BEGIN:VEVENT
DTSTART;TZID=Europe/Helsinki:20250501T110000
DTEND;TZID=Europe/Helsinki:20250501T190000
DTSTAMP:20260423T140829
CREATED:20250204T141204Z
LAST-MODIFIED:20250204T150223Z
UID:34578-1746097200-1746126000@gewuerze-kiste.de
SUMMARY:Waldgartenmarkt Velen 2025
DESCRIPTION:Waldgartenmarkt Velen 2025
URL:https://gewuerze-kiste.de/event/waldgartenmarkt-velen-2025/
LOCATION:Landgut Krumme\, Eschstraße 118\, Velen\, NRW\, 46342\, Germany
ATTACH;FMTTYPE=image/jpeg:https://gewuerze-kiste.de/wp-content/uploads/2025/02/WhatsApp-Bild-2025-02-04-um-15.46.42_4f4b5a03.jpg
END:VEVENT
BEGIN:VEVENT
DTSTART;TZID=Europe/Helsinki:20250502T080000
DTEND;TZID=Europe/Helsinki:20250502T130000
DTSTAMP:20260423T140829
CREATED:20250415T104022Z
LAST-MODIFIED:20250415T104022Z
UID:35675-1746172800-1746190800@gewuerze-kiste.de
SUMMARY:Wochenmarkt Haltern am See
DESCRIPTION:Wochenmarkt Haltern am See
URL:https://gewuerze-kiste.de/event/wochenmarkt-haltern-am-see-10/
LOCATION:Marktplatz Haltern am See\, Altes Rathaus\, Haltern am See\, NRW\, 45721\, Germany
END:VEVENT
BEGIN:VEVENT
DTSTART;TZID=Europe/Helsinki:20250502T110000
DTEND;TZID=Europe/Helsinki:20250502T190000
DTSTAMP:20260423T140829
CREATED:20250204T143317Z
LAST-MODIFIED:20250204T150137Z
UID:34588-1746183600-1746212400@gewuerze-kiste.de
SUMMARY:Waldgartenmarkt Velen 2025
DESCRIPTION:Waldgartenmarkt Velen 2025 auf dem Landgut Krumme
URL:https://gewuerze-kiste.de/event/waldgartenmarkt-velen-2025-2/
LOCATION:Landgut Krumme\, Eschstraße 118\, Velen\, NRW\, 46342\, Germany
ATTACH;FMTTYPE=image/jpeg:https://gewuerze-kiste.de/wp-content/uploads/2025/02/WhatsApp-Bild-2025-02-04-um-15.46.42_4f4b5a03.jpg
END:VEVENT
BEGIN:VEVENT
DTSTART;TZID=Europe/Helsinki:20250503T110000
DTEND;TZID=Europe/Helsinki:20250503T190000
DTSTAMP:20260423T140829
CREATED:20250204T143720Z
LAST-MODIFIED:20250204T145247Z
UID:34591-1746270000-1746298800@gewuerze-kiste.de
SUMMARY:Waldgartenmarkt Velen 2025
DESCRIPTION:Waldgartenmarkt Velen 2025 auf dem Landgut Krumme
URL:https://gewuerze-kiste.de/event/waldgartenmarkt-velen-2025-3/
LOCATION:Landgut Krumme\, Eschstraße 118\, Velen\, NRW\, 46342\, Germany
ATTACH;FMTTYPE=image/jpeg:https://gewuerze-kiste.de/wp-content/uploads/2025/02/WhatsApp-Bild-2025-02-04-um-15.46.42_4f4b5a03.jpg
END:VEVENT
BEGIN:VEVENT
DTSTART;TZID=Europe/Helsinki:20250504T110000
DTEND;TZID=Europe/Helsinki:20250504T190000
DTSTAMP:20260423T140829
CREATED:20250204T143811Z
LAST-MODIFIED:20250204T145137Z
UID:34593-1746356400-1746385200@gewuerze-kiste.de
SUMMARY:Waldgartenmarkt Velen 2025
DESCRIPTION:Waldgartenmarkt Velen 2025 auf dem Landgut Krumme
URL:https://gewuerze-kiste.de/event/waldgartenmarkt-velen-2025-4/
LOCATION:Landgut Krumme\, Eschstraße 118\, Velen\, NRW\, 46342\, Germany
ATTACH;FMTTYPE=image/jpeg:https://gewuerze-kiste.de/wp-content/uploads/2025/02/WhatsApp-Bild-2025-02-04-um-15.46.42_4f4b5a03.jpg
END:VEVENT
BEGIN:VEVENT
DTSTART;TZID=Europe/Helsinki:20250509T080000
DTEND;TZID=Europe/Helsinki:20250509T130000
DTSTAMP:20260423T140829
CREATED:20250415T104721Z
LAST-MODIFIED:20250415T104721Z
UID:35682-1746777600-1746795600@gewuerze-kiste.de
SUMMARY:Wochenmarkt Haltern am See
DESCRIPTION:Wochenmarkt Haltern am See
URL:https://gewuerze-kiste.de/event/wochenmarkt-haltern-am-see-11/
LOCATION:Marktplatz Haltern am See\, Altes Rathaus\, Haltern am See\, NRW\, 45721\, Germany
END:VEVENT
BEGIN:VEVENT
DTSTART;TZID=Europe/Helsinki:20250516T080000
DTEND;TZID=Europe/Helsinki:20250516T130000
DTSTAMP:20260423T140829
CREATED:20250415T104807Z
LAST-MODIFIED:20250415T104807Z
UID:35685-1747382400-1747400400@gewuerze-kiste.de
SUMMARY:Wochenmarkt Haltern am See
DESCRIPTION:Wochenmarkt Haltern am See
URL:https://gewuerze-kiste.de/event/wochenmarkt-haltern-am-see-12/
LOCATION:Marktplatz Haltern am See\, Altes Rathaus\, Haltern am See\, NRW\, 45721\, Germany
END:VEVENT
BEGIN:VEVENT
DTSTART;TZID=Europe/Helsinki:20250523T080000
DTEND;TZID=Europe/Helsinki:20250523T130000
DTSTAMP:20260423T140829
CREATED:20250415T104902Z
LAST-MODIFIED:20250415T104902Z
UID:35688-1747987200-1748005200@gewuerze-kiste.de
SUMMARY:Wochenmarkt Haltern am See
DESCRIPTION:Wochenmarkt Haltern am See
URL:https://gewuerze-kiste.de/event/wochenmarkt-haltern-am-see-13/
LOCATION:Marktplatz Haltern am See\, Altes Rathaus\, Haltern am See\, NRW\, 45721\, Germany
END:VEVENT
BEGIN:VEVENT
DTSTART;TZID=Europe/Helsinki:20250529T100000
DTEND;TZID=Europe/Helsinki:20250529T180000
DTSTAMP:20260423T140829
CREATED:20250415T104556Z
LAST-MODIFIED:20250415T104556Z
UID:35678-1748512800-1748541600@gewuerze-kiste.de
SUMMARY:Hoffest Spargel- und Obsthof Heinen
DESCRIPTION:Hoffest Spargel- und Obsthof Heinen
URL:https://gewuerze-kiste.de/event/hoffest-spargel-und-obsthof-heinen/
LOCATION:Hoffest Spargel- und Obsthof Heinen\, Obrighovener Str. 121\, Wesel\, 46485
END:VEVENT
BEGIN:VEVENT
DTSTART;TZID=Europe/Helsinki:20250530T080000
DTEND;TZID=Europe/Helsinki:20250530T130000
DTSTAMP:20260423T140829
CREATED:20250415T105008Z
LAST-MODIFIED:20250415T105008Z
UID:35691-1748592000-1748610000@gewuerze-kiste.de
SUMMARY:Wochenmarkt Haltern am See
DESCRIPTION:Wochenmarkt Haltern am See
URL:https://gewuerze-kiste.de/event/wochenmarkt-haltern-am-see-14/
LOCATION:Marktplatz Haltern am See\, Altes Rathaus\, Haltern am See\, NRW\, 45721\, Germany
END:VEVENT
END:VCALENDAR